BEGIN:VCALENDAR
VERSION:2.0
PRODID:-//国富こすもす保育園 - ECPv6.8.1//NONSGML v1.0//EN
CALSCALE:GREGORIAN
METHOD:PUBLISH
X-ORIGINAL-URL:https://www.jinaikai.or.jp/kunitomi
X-WR-CALDESC:国富こすもす保育園 のイベント
REFRESH-INTERVAL;VALUE=DURATION:PT1H
X-Robots-Tag:noindex
X-PUBLISHED-TTL:PT1H
BEGIN:VTIMEZONE
TZID:Asia/Tokyo
BEGIN:STANDARD
TZOFFSETFROM:+0900
TZOFFSETTO:+0900
TZNAME:JST
DTSTART:20160101T000000
END:STANDARD
END:VTIMEZONE
BEGIN:VEVENT
DTSTART;VALUE=DATE:20160709
DTEND;VALUE=DATE:20160710
DTSTAMP:20260424T121257
CREATED:20160611T020930Z
LAST-MODIFIED:20160611T020930Z
UID:130-1468022400-1468108799@www.jinaikai.or.jp
SUMMARY:夕涼み会
DESCRIPTION:
URL:https://www.jinaikai.or.jp/kunitomi/cal/130/
END:VEVENT
BEGIN:VEVENT
DTSTART;VALUE=DATE:20160712
DTEND;VALUE=DATE:20160713
DTSTAMP:20260424T121257
CREATED:20160713T075841Z
LAST-MODIFIED:20160713T075841Z
UID:148-1468281600-1468367999@www.jinaikai.or.jp
SUMMARY:元気っ子クラブ
DESCRIPTION:
URL:https://www.jinaikai.or.jp/kunitomi/cal/148/
END:VEVENT
BEGIN:VEVENT
DTSTART;VALUE=DATE:20160719
DTEND;VALUE=DATE:20160720
DTSTAMP:20260424T121257
CREATED:20160609T022000Z
LAST-MODIFIED:20160714T074037Z
UID:113-1468886400-1468972799@www.jinaikai.or.jp
SUMMARY:誕生会
DESCRIPTION:7月生まれのお友達を、みんなでお祝いします。
URL:https://www.jinaikai.or.jp/kunitomi/cal/113/
END:VEVENT
BEGIN:VEVENT
DTSTART;VALUE=DATE:20160720
DTEND;VALUE=DATE:20160721
DTSTAMP:20260424T121257
CREATED:20160713T073056Z
LAST-MODIFIED:20160713T073056Z
UID:140-1468972800-1469059199@www.jinaikai.or.jp
SUMMARY:体位測定（以上児）
DESCRIPTION:
URL:https://www.jinaikai.or.jp/kunitomi/cal/140/
END:VEVENT
BEGIN:VEVENT
DTSTART;VALUE=DATE:20160721
DTEND;VALUE=DATE:20160722
DTSTAMP:20260424T121257
CREATED:20160713T073304Z
LAST-MODIFIED:20160713T073304Z
UID:141-1469059200-1469145599@www.jinaikai.or.jp
SUMMARY:体位測定（未満児）
DESCRIPTION:
URL:https://www.jinaikai.or.jp/kunitomi/cal/141/
END:VEVENT
BEGIN:VEVENT
DTSTART;VALUE=DATE:20160722
DTEND;VALUE=DATE:20160723
DTSTAMP:20260424T121257
CREATED:20160713T073356Z
LAST-MODIFIED:20160713T073801Z
UID:142-1469145600-1469231999@www.jinaikai.or.jp
SUMMARY:避難訓練
DESCRIPTION:
URL:https://www.jinaikai.or.jp/kunitomi/cal/142/
END:VEVENT
BEGIN:VEVENT
DTSTART;VALUE=DATE:20160726
DTEND;VALUE=DATE:20160727
DTSTAMP:20260424T121257
CREATED:20160713T075914Z
LAST-MODIFIED:20160713T075914Z
UID:149-1469491200-1469577599@www.jinaikai.or.jp
SUMMARY:元気っ子クラブ
DESCRIPTION:
URL:https://www.jinaikai.or.jp/kunitomi/cal/149/
END:VEVENT
BEGIN:VEVENT
DTSTART;TZID=Asia/Tokyo:20160730T090000
DTEND;TZID=Asia/Tokyo:20160730T180000
DTSTAMP:20260424T121257
CREATED:20160609T015735Z
LAST-MODIFIED:20160609T015735Z
UID:107-1469869200-1469901600@www.jinaikai.or.jp
SUMMARY:お楽しみ会
DESCRIPTION:年長児のみの参加です。 \n法ヶ岳のじゃぶんこ広場に、遊びに行きます。 \nみんなで夕食を作ったり、お化け屋敷もします。
URL:https://www.jinaikai.or.jp/kunitomi/cal/107/
END:VEVENT
END:VCALENDAR