BEGIN:VCALENDAR
VERSION:2.0
PRODID:-//国富こすもす保育園 - ECPv6.8.1//NONSGML v1.0//EN
CALSCALE:GREGORIAN
METHOD:PUBLISH
X-WR-CALNAME:国富こすもす保育園
X-ORIGINAL-URL:https://www.jinaikai.or.jp/kunitomi
X-WR-CALDESC:国富こすもす保育園 のイベント
REFRESH-INTERVAL;VALUE=DURATION:PT1H
X-Robots-Tag:noindex
X-PUBLISHED-TTL:PT1H
BEGIN:VTIMEZONE
TZID:Asia/Tokyo
BEGIN:STANDARD
TZOFFSETFROM:+0900
TZOFFSETTO:+0900
TZNAME:JST
DTSTART:20160101T000000
END:STANDARD
END:VTIMEZONE
BEGIN:VEVENT
DTSTART;VALUE=DATE:20161005
DTEND;VALUE=DATE:20161006
DTSTAMP:20260424T073400
CREATED:20161014T074724Z
LAST-MODIFIED:20161014T074724Z
UID:180-1475625600-1475711999@www.jinaikai.or.jp
SUMMARY:運動会予行練習
DESCRIPTION:
URL:https://www.jinaikai.or.jp/kunitomi/cal/180/
END:VEVENT
BEGIN:VEVENT
DTSTART;VALUE=DATE:20161009
DTEND;VALUE=DATE:20161010
DTSTAMP:20260424T073400
CREATED:20161014T080250Z
LAST-MODIFIED:20161014T080250Z
UID:183-1475971200-1476057599@www.jinaikai.or.jp
SUMMARY:運動会
DESCRIPTION:
URL:https://www.jinaikai.or.jp/kunitomi/cal/183/
END:VEVENT
BEGIN:VEVENT
DTSTART;VALUE=DATE:20161010
DTEND;VALUE=DATE:20161011
DTSTAMP:20260424T073400
CREATED:20161014T080324Z
LAST-MODIFIED:20161014T082220Z
UID:184-1476057600-1476143999@www.jinaikai.or.jp
SUMMARY:体育の日
DESCRIPTION:
URL:https://www.jinaikai.or.jp/kunitomi/cal/184/
END:VEVENT
BEGIN:VEVENT
DTSTART;VALUE=DATE:20161011
DTEND;VALUE=DATE:20161012
DTSTAMP:20260424T073400
CREATED:20161014T080402Z
LAST-MODIFIED:20161014T080402Z
UID:185-1476144000-1476230399@www.jinaikai.or.jp
SUMMARY:元気っ子クラブ
DESCRIPTION:
URL:https://www.jinaikai.or.jp/kunitomi/cal/185/
END:VEVENT
BEGIN:VEVENT
DTSTART;VALUE=DATE:20161015
DTEND;VALUE=DATE:20161017
DTSTAMP:20260424T073400
CREATED:20161014T080443Z
LAST-MODIFIED:20161014T083448Z
UID:186-1476489600-1476662399@www.jinaikai.or.jp
SUMMARY:町民祭
DESCRIPTION:町体育館に、ひまわり、さくら組の共同作品が展示されます。 \nぜひ、ご覧になってください。
URL:https://www.jinaikai.or.jp/kunitomi/cal/186/
END:VEVENT
BEGIN:VEVENT
DTSTART;VALUE=DATE:20161018
DTEND;VALUE=DATE:20161019
DTSTAMP:20260424T073400
CREATED:20161014T080514Z
LAST-MODIFIED:20161014T080514Z
UID:187-1476748800-1476835199@www.jinaikai.or.jp
SUMMARY:誕生会
DESCRIPTION:
URL:https://www.jinaikai.or.jp/kunitomi/cal/187/
END:VEVENT
BEGIN:VEVENT
DTSTART;VALUE=DATE:20161019
DTEND;VALUE=DATE:20161020
DTSTAMP:20260424T073400
CREATED:20161014T080628Z
LAST-MODIFIED:20161014T081947Z
UID:188-1476835200-1476921599@www.jinaikai.or.jp
SUMMARY:体位測定 （3歳以上児）
DESCRIPTION:
URL:https://www.jinaikai.or.jp/kunitomi/cal/188/
END:VEVENT
BEGIN:VEVENT
DTSTART;VALUE=DATE:20161019
DTEND;VALUE=DATE:20161020
DTSTAMP:20260424T073400
CREATED:20161014T084452Z
LAST-MODIFIED:20161014T084452Z
UID:197-1476835200-1476921599@www.jinaikai.or.jp
SUMMARY:ぎょう虫検査提出
DESCRIPTION:
URL:https://www.jinaikai.or.jp/kunitomi/cal/197/
END:VEVENT
BEGIN:VEVENT
DTSTART;VALUE=DATE:20161020
DTEND;VALUE=DATE:20161021
DTSTAMP:20260424T073400
CREATED:20161014T080707Z
LAST-MODIFIED:20161014T082022Z
UID:189-1476921600-1477007999@www.jinaikai.or.jp
SUMMARY:体位測定 （3歳未満児）
DESCRIPTION:
URL:https://www.jinaikai.or.jp/kunitomi/cal/189/
END:VEVENT
BEGIN:VEVENT
DTSTART;VALUE=DATE:20161021
DTEND;VALUE=DATE:20161022
DTSTAMP:20260424T073400
CREATED:20161014T080813Z
LAST-MODIFIED:20161014T083706Z
UID:190-1477008000-1477094399@www.jinaikai.or.jp
SUMMARY:避難訓練
DESCRIPTION:今月は、地震の避難訓練です。
URL:https://www.jinaikai.or.jp/kunitomi/cal/190/
END:VEVENT
BEGIN:VEVENT
DTSTART;TZID=Asia/Tokyo:20161021T190000
DTEND;TZID=Asia/Tokyo:20161021T190000
DTSTAMP:20260424T073400
CREATED:20161014T085414Z
LAST-MODIFIED:20161014T085414Z
UID:199-1477076400-1477076400@www.jinaikai.or.jp
SUMMARY:杉の子会講演会
DESCRIPTION:職員、保護者を対象に講演会があります。 \nぜひ、ご参加ください。 \n国富町改善センター　　　　託児あり。
URL:https://www.jinaikai.or.jp/kunitomi/cal/199/
END:VEVENT
BEGIN:VEVENT
DTSTART;VALUE=DATE:20161025
DTEND;VALUE=DATE:20161026
DTSTAMP:20260424T073400
CREATED:20161014T080842Z
LAST-MODIFIED:20161014T080842Z
UID:191-1477353600-1477439999@www.jinaikai.or.jp
SUMMARY:元気っ子クラブ
DESCRIPTION:
URL:https://www.jinaikai.or.jp/kunitomi/cal/191/
END:VEVENT
END:VCALENDAR