BEGIN:VCALENDAR
VERSION:2.0
PRODID:-//国富こすもす保育園 - ECPv6.8.1//NONSGML v1.0//EN
CALSCALE:GREGORIAN
METHOD:PUBLISH
X-ORIGINAL-URL:https://www.jinaikai.or.jp/kunitomi
X-WR-CALDESC:国富こすもす保育園 のイベント
REFRESH-INTERVAL;VALUE=DURATION:PT1H
X-Robots-Tag:noindex
X-PUBLISHED-TTL:PT1H
BEGIN:VTIMEZONE
TZID:Asia/Tokyo
BEGIN:STANDARD
TZOFFSETFROM:+0900
TZOFFSETTO:+0900
TZNAME:JST
DTSTART:20160101T000000
END:STANDARD
END:VTIMEZONE
BEGIN:VEVENT
DTSTART;VALUE=DATE:20161103
DTEND;VALUE=DATE:20161104
DTSTAMP:20260424T060922
CREATED:20161117T081642Z
LAST-MODIFIED:20161117T081642Z
UID:210-1478131200-1478217599@www.jinaikai.or.jp
SUMMARY:文化の日
DESCRIPTION:
URL:https://www.jinaikai.or.jp/kunitomi/cal/210/
END:VEVENT
BEGIN:VEVENT
DTSTART;VALUE=DATE:20161108
DTEND;VALUE=DATE:20161109
DTSTAMP:20260424T060922
CREATED:20161117T081711Z
LAST-MODIFIED:20161117T081711Z
UID:211-1478563200-1478649599@www.jinaikai.or.jp
SUMMARY:元気っ子クラブ
DESCRIPTION:
URL:https://www.jinaikai.or.jp/kunitomi/cal/211/
END:VEVENT
BEGIN:VEVENT
DTSTART;VALUE=DATE:20161110
DTEND;VALUE=DATE:20161111
DTSTAMP:20260424T060922
CREATED:20161117T081733Z
LAST-MODIFIED:20161117T081733Z
UID:212-1478736000-1478822399@www.jinaikai.or.jp
SUMMARY:遠足
DESCRIPTION:
URL:https://www.jinaikai.or.jp/kunitomi/cal/212/
END:VEVENT
BEGIN:VEVENT
DTSTART;VALUE=DATE:20161115
DTEND;VALUE=DATE:20161116
DTSTAMP:20260424T060922
CREATED:20161117T080758Z
LAST-MODIFIED:20161117T080758Z
UID:200-1479168000-1479254399@www.jinaikai.or.jp
SUMMARY:5歳児健康相談
DESCRIPTION:
URL:https://www.jinaikai.or.jp/kunitomi/cal/200/
END:VEVENT
BEGIN:VEVENT
DTSTART;VALUE=DATE:20161115
DTEND;VALUE=DATE:20161116
DTSTAMP:20260424T060922
CREATED:20161117T080830Z
LAST-MODIFIED:20161117T080830Z
UID:201-1479168000-1479254399@www.jinaikai.or.jp
SUMMARY:七五三
DESCRIPTION:
URL:https://www.jinaikai.or.jp/kunitomi/cal/201/
END:VEVENT
BEGIN:VEVENT
DTSTART;VALUE=DATE:20161117
DTEND;VALUE=DATE:20161118
DTSTAMP:20260424T060922
CREATED:20161117T080914Z
LAST-MODIFIED:20161117T080914Z
UID:202-1479340800-1479427199@www.jinaikai.or.jp
SUMMARY:体位測定（3歳以上児）
DESCRIPTION:
URL:https://www.jinaikai.or.jp/kunitomi/cal/202/
END:VEVENT
BEGIN:VEVENT
DTSTART;VALUE=DATE:20161118
DTEND;VALUE=DATE:20161119
DTSTAMP:20260424T060922
CREATED:20161117T081001Z
LAST-MODIFIED:20161117T081001Z
UID:203-1479427200-1479513599@www.jinaikai.or.jp
SUMMARY:本庄小交流会
DESCRIPTION:
URL:https://www.jinaikai.or.jp/kunitomi/cal/203/
END:VEVENT
BEGIN:VEVENT
DTSTART;VALUE=DATE:20161118
DTEND;VALUE=DATE:20161119
DTSTAMP:20260424T060922
CREATED:20161117T081033Z
LAST-MODIFIED:20161117T081033Z
UID:204-1479427200-1479513599@www.jinaikai.or.jp
SUMMARY:体位測定（3歳未満児）
DESCRIPTION:
URL:https://www.jinaikai.or.jp/kunitomi/cal/204/
END:VEVENT
BEGIN:VEVENT
DTSTART;VALUE=DATE:20161122
DTEND;VALUE=DATE:20161123
DTSTAMP:20260424T060922
CREATED:20161117T081109Z
LAST-MODIFIED:20161117T081109Z
UID:205-1479772800-1479859199@www.jinaikai.or.jp
SUMMARY:元気っ子クラブ
DESCRIPTION:
URL:https://www.jinaikai.or.jp/kunitomi/cal/205/
END:VEVENT
BEGIN:VEVENT
DTSTART;VALUE=DATE:20161123
DTEND;VALUE=DATE:20161124
DTSTAMP:20260424T060922
CREATED:20161117T081227Z
LAST-MODIFIED:20161117T081227Z
UID:206-1479859200-1479945599@www.jinaikai.or.jp
SUMMARY:勤労感謝の日
DESCRIPTION:
URL:https://www.jinaikai.or.jp/kunitomi/cal/206/
END:VEVENT
BEGIN:VEVENT
DTSTART;VALUE=DATE:20161124
DTEND;VALUE=DATE:20161125
DTSTAMP:20260424T060922
CREATED:20161117T081303Z
LAST-MODIFIED:20161117T081303Z
UID:207-1479945600-1480031999@www.jinaikai.or.jp
SUMMARY:避難訓練
DESCRIPTION:
URL:https://www.jinaikai.or.jp/kunitomi/cal/207/
END:VEVENT
BEGIN:VEVENT
DTSTART;VALUE=DATE:20161129
DTEND;VALUE=DATE:20161130
DTSTAMP:20260424T060922
CREATED:20161117T081337Z
LAST-MODIFIED:20161117T081337Z
UID:208-1480377600-1480463999@www.jinaikai.or.jp
SUMMARY:生活発表会予行練習
DESCRIPTION:
URL:https://www.jinaikai.or.jp/kunitomi/cal/208/
END:VEVENT
END:VCALENDAR