BEGIN:VCALENDAR
VERSION:2.0
PRODID:-//国富こすもす保育園 - ECPv6.8.1//NONSGML v1.0//EN
CALSCALE:GREGORIAN
METHOD:PUBLISH
X-WR-CALNAME:国富こすもす保育園
X-ORIGINAL-URL:https://www.jinaikai.or.jp/kunitomi
X-WR-CALDESC:国富こすもす保育園 のイベント
REFRESH-INTERVAL;VALUE=DURATION:PT1H
X-Robots-Tag:noindex
X-PUBLISHED-TTL:PT1H
BEGIN:VTIMEZONE
TZID:Asia/Tokyo
BEGIN:STANDARD
TZOFFSETFROM:+0900
TZOFFSETTO:+0900
TZNAME:JST
DTSTART:20170101T000000
END:STANDARD
END:VTIMEZONE
BEGIN:VEVENT
DTSTART;VALUE=DATE:20170509
DTEND;VALUE=DATE:20170510
DTSTAMP:20260423T205709
CREATED:20170512T030525Z
LAST-MODIFIED:20170512T030525Z
UID:304-1494288000-1494374399@www.jinaikai.or.jp
SUMMARY:元気っ子クラブ
DESCRIPTION:
URL:https://www.jinaikai.or.jp/kunitomi/cal/304/
END:VEVENT
BEGIN:VEVENT
DTSTART;VALUE=DATE:20170514
DTEND;VALUE=DATE:20170515
DTSTAMP:20260423T205709
CREATED:20170512T030614Z
LAST-MODIFIED:20170512T030614Z
UID:305-1494720000-1494806399@www.jinaikai.or.jp
SUMMARY:母の日
DESCRIPTION:
URL:https://www.jinaikai.or.jp/kunitomi/cal/305/
END:VEVENT
BEGIN:VEVENT
DTSTART;TZID=Asia/Tokyo:20170516T100000
DTEND;TZID=Asia/Tokyo:20170516T110000
DTSTAMP:20260423T205709
CREATED:20170512T030659Z
LAST-MODIFIED:20170512T030659Z
UID:306-1494928800-1494932400@www.jinaikai.or.jp
SUMMARY:誕生会
DESCRIPTION:
URL:https://www.jinaikai.or.jp/kunitomi/cal/306/
END:VEVENT
BEGIN:VEVENT
DTSTART;VALUE=DATE:20170518
DTEND;VALUE=DATE:20170519
DTSTAMP:20260423T205709
CREATED:20170512T030736Z
LAST-MODIFIED:20170512T030736Z
UID:307-1495065600-1495151999@www.jinaikai.or.jp
SUMMARY:体位測定（3歳以上児）
DESCRIPTION:
URL:https://www.jinaikai.or.jp/kunitomi/cal/307/
END:VEVENT
BEGIN:VEVENT
DTSTART;VALUE=DATE:20170519
DTEND;VALUE=DATE:20170520
DTSTAMP:20260423T205709
CREATED:20170512T030816Z
LAST-MODIFIED:20170512T030816Z
UID:308-1495152000-1495238399@www.jinaikai.or.jp
SUMMARY:体位測定（3歳未満児）
DESCRIPTION:
URL:https://www.jinaikai.or.jp/kunitomi/cal/308/
END:VEVENT
BEGIN:VEVENT
DTSTART;VALUE=DATE:20170523
DTEND;VALUE=DATE:20170524
DTSTAMP:20260423T205709
CREATED:20170512T030841Z
LAST-MODIFIED:20170512T030841Z
UID:309-1495497600-1495583999@www.jinaikai.or.jp
SUMMARY:元気っ子クラブ
DESCRIPTION:
URL:https://www.jinaikai.or.jp/kunitomi/cal/309/
END:VEVENT
BEGIN:VEVENT
DTSTART;VALUE=DATE:20170524
DTEND;VALUE=DATE:20170525
DTSTAMP:20260423T205709
CREATED:20170512T030913Z
LAST-MODIFIED:20170512T030913Z
UID:310-1495584000-1495670399@www.jinaikai.or.jp
SUMMARY:避難訓練
DESCRIPTION:
URL:https://www.jinaikai.or.jp/kunitomi/cal/310/
END:VEVENT
BEGIN:VEVENT
DTSTART;TZID=Asia/Tokyo:20170524T100000
DTEND;TZID=Asia/Tokyo:20170524T104000
DTSTAMP:20260423T205709
CREATED:20170522T073210Z
LAST-MODIFIED:20170522T074944Z
UID:314-1495620000-1495622400@www.jinaikai.or.jp
SUMMARY:ピーマン収穫体験
DESCRIPTION:ピーマン農家さんの協力を得て、４・５歳児が、ビニールハウスでピーマンの収穫をします。 \n水筒、長靴、記名したスーパー袋を忘れないでください。 \n 
URL:https://www.jinaikai.or.jp/kunitomi/cal/314/
END:VEVENT
BEGIN:VEVENT
DTSTART;VALUE=DATE:20170525
DTEND;VALUE=DATE:20170526
DTSTAMP:20260423T205709
CREATED:20170512T030940Z
LAST-MODIFIED:20170512T030940Z
UID:311-1495670400-1495756799@www.jinaikai.or.jp
SUMMARY:弁当の日
DESCRIPTION:
URL:https://www.jinaikai.or.jp/kunitomi/cal/311/
END:VEVENT
BEGIN:VEVENT
DTSTART;TZID=Asia/Tokyo:20170531T103000
DTEND;TZID=Asia/Tokyo:20170531T113000
DTSTAMP:20260423T205709
CREATED:20170512T031021Z
LAST-MODIFIED:20170512T031021Z
UID:312-1496226600-1496230200@www.jinaikai.or.jp
SUMMARY:歯科検診
DESCRIPTION:
URL:https://www.jinaikai.or.jp/kunitomi/cal/312/
END:VEVENT
END:VCALENDAR