BEGIN:VCALENDAR
VERSION:2.0
PRODID:-//国富こすもす保育園 - ECPv6.8.1//NONSGML v1.0//EN
CALSCALE:GREGORIAN
METHOD:PUBLISH
X-WR-CALNAME:国富こすもす保育園
X-ORIGINAL-URL:https://www.jinaikai.or.jp/kunitomi
X-WR-CALDESC:国富こすもす保育園 のイベント
REFRESH-INTERVAL;VALUE=DURATION:PT1H
X-Robots-Tag:noindex
X-PUBLISHED-TTL:PT1H
BEGIN:VTIMEZONE
TZID:Asia/Tokyo
BEGIN:STANDARD
TZOFFSETFROM:+0900
TZOFFSETTO:+0900
TZNAME:JST
DTSTART:20170101T000000
END:STANDARD
END:VTIMEZONE
BEGIN:VEVENT
DTSTART;TZID=Asia/Tokyo:20170708T183000
DTEND;TZID=Asia/Tokyo:20170708T203000
DTSTAMP:20260423T180215
CREATED:20170711T014834Z
LAST-MODIFIED:20170711T014834Z
UID:340-1499538600-1499545800@www.jinaikai.or.jp
SUMMARY:夕涼み会
DESCRIPTION:
URL:https://www.jinaikai.or.jp/kunitomi/cal/340/
END:VEVENT
BEGIN:VEVENT
DTSTART;VALUE=DATE:20170711
DTEND;VALUE=DATE:20170712
DTSTAMP:20260423T180215
CREATED:20170711T014915Z
LAST-MODIFIED:20170711T014915Z
UID:341-1499731200-1499817599@www.jinaikai.or.jp
SUMMARY:元気っ子クラブ
DESCRIPTION:
URL:https://www.jinaikai.or.jp/kunitomi/cal/341/
END:VEVENT
BEGIN:VEVENT
DTSTART;TZID=Asia/Tokyo:20170713T100000
DTEND;TZID=Asia/Tokyo:20170713T103000
DTSTAMP:20260423T180215
CREATED:20170711T015036Z
LAST-MODIFIED:20170711T015036Z
UID:342-1499940000-1499941800@www.jinaikai.or.jp
SUMMARY:プール開き
DESCRIPTION:
URL:https://www.jinaikai.or.jp/kunitomi/cal/342/
END:VEVENT
BEGIN:VEVENT
DTSTART;TZID=Asia/Tokyo:20170714T100000
DTEND;TZID=Asia/Tokyo:20170714T110000
DTSTAMP:20260423T180215
CREATED:20170711T015255Z
LAST-MODIFIED:20170711T015255Z
UID:343-1500026400-1500030000@www.jinaikai.or.jp
SUMMARY:誕生会
DESCRIPTION:
URL:https://www.jinaikai.or.jp/kunitomi/cal/343/
END:VEVENT
BEGIN:VEVENT
DTSTART;VALUE=DATE:20170718
DTEND;VALUE=DATE:20170719
DTSTAMP:20260423T180215
CREATED:20170712T052935Z
LAST-MODIFIED:20170712T053318Z
UID:347-1500336000-1500422399@www.jinaikai.or.jp
SUMMARY:体位測定（３歳以上児）
DESCRIPTION:
URL:https://www.jinaikai.or.jp/kunitomi/cal/347/
END:VEVENT
BEGIN:VEVENT
DTSTART;VALUE=DATE:20170719
DTEND;VALUE=DATE:20170720
DTSTAMP:20260423T180215
CREATED:20170712T053014Z
LAST-MODIFIED:20170712T053358Z
UID:348-1500422400-1500508799@www.jinaikai.or.jp
SUMMARY:体位測定（３歳未満児）
DESCRIPTION:
URL:https://www.jinaikai.or.jp/kunitomi/cal/348/
END:VEVENT
BEGIN:VEVENT
DTSTART;TZID=Asia/Tokyo:20170721T103000
DTEND;TZID=Asia/Tokyo:20170721T104000
DTSTAMP:20260423T180215
CREATED:20170712T053217Z
LAST-MODIFIED:20170712T053217Z
UID:349-1500633000-1500633600@www.jinaikai.or.jp
SUMMARY:避難訓練
DESCRIPTION:
URL:https://www.jinaikai.or.jp/kunitomi/cal/349/
END:VEVENT
BEGIN:VEVENT
DTSTART;VALUE=DATE:20170729
DTEND;VALUE=DATE:20170730
DTSTAMP:20260423T180215
CREATED:20170712T062257Z
LAST-MODIFIED:20170712T062257Z
UID:352-1501286400-1501372799@www.jinaikai.or.jp
SUMMARY:お楽しみ会
DESCRIPTION:
URL:https://www.jinaikai.or.jp/kunitomi/cal/352/
END:VEVENT
END:VCALENDAR