BEGIN:VCALENDAR
VERSION:2.0
PRODID:-//国富こすもす保育園 - ECPv6.8.1//NONSGML v1.0//EN
CALSCALE:GREGORIAN
METHOD:PUBLISH
X-WR-CALNAME:国富こすもす保育園
X-ORIGINAL-URL:https://www.jinaikai.or.jp/kunitomi
X-WR-CALDESC:国富こすもす保育園 のイベント
REFRESH-INTERVAL;VALUE=DURATION:PT1H
X-Robots-Tag:noindex
X-PUBLISHED-TTL:PT1H
BEGIN:VTIMEZONE
TZID:Asia/Tokyo
BEGIN:STANDARD
TZOFFSETFROM:+0900
TZOFFSETTO:+0900
TZNAME:JST
DTSTART:20170101T000000
END:STANDARD
END:VTIMEZONE
BEGIN:VEVENT
DTSTART;VALUE=DATE:20170808
DTEND;VALUE=DATE:20170809
DTSTAMP:20260423T164050
CREATED:20170803T235527Z
LAST-MODIFIED:20170803T235527Z
UID:354-1502150400-1502236799@www.jinaikai.or.jp
SUMMARY:元気っ子クラブ
DESCRIPTION:
URL:https://www.jinaikai.or.jp/kunitomi/cal/354/
END:VEVENT
BEGIN:VEVENT
DTSTART;VALUE=DATE:20170811
DTEND;VALUE=DATE:20170812
DTSTAMP:20260423T164050
CREATED:20170803T235602Z
LAST-MODIFIED:20170803T235602Z
UID:355-1502409600-1502495999@www.jinaikai.or.jp
SUMMARY:山の日
DESCRIPTION:
URL:https://www.jinaikai.or.jp/kunitomi/cal/355/
END:VEVENT
BEGIN:VEVENT
DTSTART;VALUE=DATE:20170814
DTEND;VALUE=DATE:20170815
DTSTAMP:20260423T164050
CREATED:20170803T235635Z
LAST-MODIFIED:20170803T235635Z
UID:356-1502668800-1502755199@www.jinaikai.or.jp
SUMMARY:お盆
DESCRIPTION:
URL:https://www.jinaikai.or.jp/kunitomi/cal/356/
END:VEVENT
BEGIN:VEVENT
DTSTART;VALUE=DATE:20170815
DTEND;VALUE=DATE:20170816
DTSTAMP:20260423T164050
CREATED:20170803T235658Z
LAST-MODIFIED:20170803T235658Z
UID:357-1502755200-1502841599@www.jinaikai.or.jp
SUMMARY:お盆
DESCRIPTION:
URL:https://www.jinaikai.or.jp/kunitomi/cal/357/
END:VEVENT
BEGIN:VEVENT
DTSTART;VALUE=DATE:20170821
DTEND;VALUE=DATE:20170822
DTSTAMP:20260423T164050
CREATED:20170803T235753Z
LAST-MODIFIED:20170804T000022Z
UID:358-1503273600-1503359999@www.jinaikai.or.jp
SUMMARY:体位測定（3歳以上児）
DESCRIPTION:
URL:https://www.jinaikai.or.jp/kunitomi/cal/358/
END:VEVENT
BEGIN:VEVENT
DTSTART;VALUE=DATE:20170822
DTEND;VALUE=DATE:20170823
DTSTAMP:20260423T164050
CREATED:20170803T235859Z
LAST-MODIFIED:20170803T235859Z
UID:359-1503360000-1503446399@www.jinaikai.or.jp
SUMMARY:体位測定（3歳未満児）
DESCRIPTION:
URL:https://www.jinaikai.or.jp/kunitomi/cal/359/
END:VEVENT
BEGIN:VEVENT
DTSTART;VALUE=DATE:20170822
DTEND;VALUE=DATE:20170823
DTSTAMP:20260423T164050
CREATED:20170803T235929Z
LAST-MODIFIED:20170803T235929Z
UID:360-1503360000-1503446399@www.jinaikai.or.jp
SUMMARY:元気っ子クラブ
DESCRIPTION:
URL:https://www.jinaikai.or.jp/kunitomi/cal/360/
END:VEVENT
BEGIN:VEVENT
DTSTART;VALUE=DATE:20170824
DTEND;VALUE=DATE:20170825
DTSTAMP:20260423T164050
CREATED:20170804T000832Z
LAST-MODIFIED:20170804T000832Z
UID:361-1503532800-1503619199@www.jinaikai.or.jp
SUMMARY:誕生会
DESCRIPTION:
URL:https://www.jinaikai.or.jp/kunitomi/cal/361/
END:VEVENT
BEGIN:VEVENT
DTSTART;TZID=Asia/Tokyo:20170825T114000
DTEND;TZID=Asia/Tokyo:20170825T115000
DTSTAMP:20260423T164050
CREATED:20170804T000948Z
LAST-MODIFIED:20170804T000948Z
UID:362-1503661200-1503661800@www.jinaikai.or.jp
SUMMARY:避難訓練
DESCRIPTION:
URL:https://www.jinaikai.or.jp/kunitomi/cal/362/
END:VEVENT
END:VCALENDAR