BEGIN:VCALENDAR
VERSION:2.0
PRODID:-//国富こすもす保育園 - ECPv6.8.1//NONSGML v1.0//EN
CALSCALE:GREGORIAN
METHOD:PUBLISH
X-ORIGINAL-URL:https://www.jinaikai.or.jp/kunitomi
X-WR-CALDESC:国富こすもす保育園 のイベント
REFRESH-INTERVAL;VALUE=DURATION:PT1H
X-Robots-Tag:noindex
X-PUBLISHED-TTL:PT1H
BEGIN:VTIMEZONE
TZID:Asia/Tokyo
BEGIN:STANDARD
TZOFFSETFROM:+0900
TZOFFSETTO:+0900
TZNAME:JST
DTSTART:20170101T000000
END:STANDARD
END:VTIMEZONE
BEGIN:VEVENT
DTSTART;VALUE=DATE:20170912
DTEND;VALUE=DATE:20170913
DTSTAMP:20260423T152010
CREATED:20170908T081943Z
LAST-MODIFIED:20170908T081943Z
UID:364-1505174400-1505260799@www.jinaikai.or.jp
SUMMARY:元気っ子クラブ
DESCRIPTION:
URL:https://www.jinaikai.or.jp/kunitomi/cal/364/
END:VEVENT
BEGIN:VEVENT
DTSTART;VALUE=DATE:20170919
DTEND;VALUE=DATE:20170920
DTSTAMP:20260423T152010
CREATED:20170908T082059Z
LAST-MODIFIED:20170908T082059Z
UID:366-1505779200-1505865599@www.jinaikai.or.jp
SUMMARY:誕生会
DESCRIPTION:
URL:https://www.jinaikai.or.jp/kunitomi/cal/366/
END:VEVENT
BEGIN:VEVENT
DTSTART;VALUE=DATE:20170920
DTEND;VALUE=DATE:20170921
DTSTAMP:20260423T152010
CREATED:20170908T082134Z
LAST-MODIFIED:20170908T082134Z
UID:367-1505865600-1505951999@www.jinaikai.or.jp
SUMMARY:体位測定（3歳以上児）
DESCRIPTION:
URL:https://www.jinaikai.or.jp/kunitomi/cal/367/
END:VEVENT
BEGIN:VEVENT
DTSTART;VALUE=DATE:20170921
DTEND;VALUE=DATE:20170922
DTSTAMP:20260423T152010
CREATED:20170908T082213Z
LAST-MODIFIED:20170908T082213Z
UID:368-1505952000-1506038399@www.jinaikai.or.jp
SUMMARY:体位測定（3歳未満児）
DESCRIPTION:
URL:https://www.jinaikai.or.jp/kunitomi/cal/368/
END:VEVENT
BEGIN:VEVENT
DTSTART;VALUE=DATE:20170922
DTEND;VALUE=DATE:20170923
DTSTAMP:20260423T152010
CREATED:20170908T082234Z
LAST-MODIFIED:20170908T082234Z
UID:369-1506038400-1506124799@www.jinaikai.or.jp
SUMMARY:避難訓練
DESCRIPTION:
URL:https://www.jinaikai.or.jp/kunitomi/cal/369/
END:VEVENT
BEGIN:VEVENT
DTSTART;VALUE=DATE:20170923
DTEND;VALUE=DATE:20170924
DTSTAMP:20260423T152010
CREATED:20170908T082405Z
LAST-MODIFIED:20170908T082405Z
UID:370-1506124800-1506211199@www.jinaikai.or.jp
SUMMARY:秋分の日
DESCRIPTION:
URL:https://www.jinaikai.or.jp/kunitomi/cal/370/
END:VEVENT
BEGIN:VEVENT
DTSTART;VALUE=DATE:20170926
DTEND;VALUE=DATE:20170927
DTSTAMP:20260423T152010
CREATED:20170908T082506Z
LAST-MODIFIED:20170908T082506Z
UID:372-1506384000-1506470399@www.jinaikai.or.jp
SUMMARY:元気っ子クラブ
DESCRIPTION:
URL:https://www.jinaikai.or.jp/kunitomi/cal/372/
END:VEVENT
BEGIN:VEVENT
DTSTART;VALUE=DATE:20170927
DTEND;VALUE=DATE:20170928
DTSTAMP:20260423T152010
CREATED:20170908T082542Z
LAST-MODIFIED:20170908T082542Z
UID:373-1506470400-1506556799@www.jinaikai.or.jp
SUMMARY:運動会予行練習
DESCRIPTION:
URL:https://www.jinaikai.or.jp/kunitomi/cal/373/
END:VEVENT
BEGIN:VEVENT
DTSTART;VALUE=DATE:20170927
DTEND;VALUE=DATE:20170928
DTSTAMP:20260423T152010
CREATED:20170908T082604Z
LAST-MODIFIED:20170908T082604Z
UID:374-1506470400-1506556799@www.jinaikai.or.jp
SUMMARY:弁当の日
DESCRIPTION:
URL:https://www.jinaikai.or.jp/kunitomi/cal/374/
END:VEVENT
END:VCALENDAR