BEGIN:VCALENDAR
VERSION:2.0
PRODID:-//国富こすもす保育園 - ECPv6.8.1//NONSGML v1.0//EN
CALSCALE:GREGORIAN
METHOD:PUBLISH
X-WR-CALNAME:国富こすもす保育園
X-ORIGINAL-URL:https://www.jinaikai.or.jp/kunitomi
X-WR-CALDESC:国富こすもす保育園 のイベント
REFRESH-INTERVAL;VALUE=DURATION:PT1H
X-Robots-Tag:noindex
X-PUBLISHED-TTL:PT1H
BEGIN:VTIMEZONE
TZID:Asia/Tokyo
BEGIN:STANDARD
TZOFFSETFROM:+0900
TZOFFSETTO:+0900
TZNAME:JST
DTSTART:20180101T000000
END:STANDARD
END:VTIMEZONE
BEGIN:VEVENT
DTSTART;VALUE=DATE:20180104
DTEND;VALUE=DATE:20180105
DTSTAMP:20260423T091429
CREATED:20171216T065413Z
LAST-MODIFIED:20171216T065413Z
UID:429-1515024000-1515110399@www.jinaikai.or.jp
SUMMARY:保育始め
DESCRIPTION:
URL:https://www.jinaikai.or.jp/kunitomi/cal/429/
END:VEVENT
BEGIN:VEVENT
DTSTART;VALUE=DATE:20180109
DTEND;VALUE=DATE:20180110
DTSTAMP:20260423T091429
CREATED:20171216T065552Z
LAST-MODIFIED:20171216T065552Z
UID:431-1515456000-1515542399@www.jinaikai.or.jp
SUMMARY:元気っ子クラブ
DESCRIPTION:
URL:https://www.jinaikai.or.jp/kunitomi/cal/431/
END:VEVENT
BEGIN:VEVENT
DTSTART;VALUE=DATE:20180116
DTEND;VALUE=DATE:20180117
DTSTAMP:20260423T091429
CREATED:20180105T081858Z
LAST-MODIFIED:20180105T081858Z
UID:439-1516060800-1516147199@www.jinaikai.or.jp
SUMMARY:体位測定（以上児）
DESCRIPTION:
URL:https://www.jinaikai.or.jp/kunitomi/cal/439/
END:VEVENT
BEGIN:VEVENT
DTSTART;VALUE=DATE:20180117
DTEND;VALUE=DATE:20180118
DTSTAMP:20260423T091429
CREATED:20180105T081933Z
LAST-MODIFIED:20180105T081933Z
UID:440-1516147200-1516233599@www.jinaikai.or.jp
SUMMARY:体位測定（未満児）
DESCRIPTION:
URL:https://www.jinaikai.or.jp/kunitomi/cal/440/
END:VEVENT
BEGIN:VEVENT
DTSTART;VALUE=DATE:20180120
DTEND;VALUE=DATE:20180121
DTSTAMP:20260423T091429
CREATED:20171216T065443Z
LAST-MODIFIED:20171216T065443Z
UID:430-1516406400-1516492799@www.jinaikai.or.jp
SUMMARY:保育参観日
DESCRIPTION:
URL:https://www.jinaikai.or.jp/kunitomi/cal/430/
END:VEVENT
BEGIN:VEVENT
DTSTART;VALUE=DATE:20180123
DTEND;VALUE=DATE:20180124
DTSTAMP:20260423T091429
CREATED:20171216T065621Z
LAST-MODIFIED:20171216T065621Z
UID:432-1516665600-1516751999@www.jinaikai.or.jp
SUMMARY:元気っ子クラブ
DESCRIPTION:
URL:https://www.jinaikai.or.jp/kunitomi/cal/432/
END:VEVENT
BEGIN:VEVENT
DTSTART;TZID=Asia/Tokyo:20180124T100000
DTEND;TZID=Asia/Tokyo:20180124T110000
DTSTAMP:20260423T091429
CREATED:20171216T070355Z
LAST-MODIFIED:20171216T070355Z
UID:434-1516788000-1516791600@www.jinaikai.or.jp
SUMMARY:誕生会
DESCRIPTION:
URL:https://www.jinaikai.or.jp/kunitomi/cal/434/
END:VEVENT
BEGIN:VEVENT
DTSTART;VALUE=DATE:20180126
DTEND;VALUE=DATE:20180127
DTSTAMP:20260423T091429
CREATED:20180105T081723Z
LAST-MODIFIED:20180105T081723Z
UID:437-1516924800-1517011199@www.jinaikai.or.jp
SUMMARY:愛情弁当の日
DESCRIPTION:
URL:https://www.jinaikai.or.jp/kunitomi/cal/437/
END:VEVENT
BEGIN:VEVENT
DTSTART;VALUE=DATE:20180126
DTEND;VALUE=DATE:20180127
DTSTAMP:20260423T091429
CREATED:20180105T081810Z
LAST-MODIFIED:20180105T081810Z
UID:438-1516924800-1517011199@www.jinaikai.or.jp
SUMMARY:避難訓練
DESCRIPTION:
URL:https://www.jinaikai.or.jp/kunitomi/cal/438/
END:VEVENT
END:VCALENDAR