BEGIN:VCALENDAR
VERSION:2.0
PRODID:-//国富こすもす保育園 - ECPv6.8.1//NONSGML v1.0//EN
CALSCALE:GREGORIAN
METHOD:PUBLISH
X-ORIGINAL-URL:https://www.jinaikai.or.jp/kunitomi
X-WR-CALDESC:国富こすもす保育園 のイベント
REFRESH-INTERVAL;VALUE=DURATION:PT1H
X-Robots-Tag:noindex
X-PUBLISHED-TTL:PT1H
BEGIN:VTIMEZONE
TZID:Asia/Tokyo
BEGIN:STANDARD
TZOFFSETFROM:+0900
TZOFFSETTO:+0900
TZNAME:JST
DTSTART:20180101T000000
END:STANDARD
END:VTIMEZONE
BEGIN:VEVENT
DTSTART;VALUE=DATE:20180302
DTEND;VALUE=DATE:20180303
DTSTAMP:20260423T054612
CREATED:20180303T022935Z
LAST-MODIFIED:20180303T022935Z
UID:457-1519948800-1520035199@www.jinaikai.or.jp
SUMMARY:ひなまつり会
DESCRIPTION:
URL:https://www.jinaikai.or.jp/kunitomi/cal/457/
END:VEVENT
BEGIN:VEVENT
DTSTART;TZID=Asia/Tokyo:20180305T100000
DTEND;TZID=Asia/Tokyo:20180305T105000
DTSTAMP:20260423T054612
CREATED:20180303T023037Z
LAST-MODIFIED:20180303T023037Z
UID:458-1520244000-1520247000@www.jinaikai.or.jp
SUMMARY:総合避難訓練
DESCRIPTION:
URL:https://www.jinaikai.or.jp/kunitomi/cal/458/
END:VEVENT
BEGIN:VEVENT
DTSTART;VALUE=DATE:20180309
DTEND;VALUE=DATE:20180310
DTSTAMP:20260423T054612
CREATED:20180303T023308Z
LAST-MODIFIED:20180303T023308Z
UID:459-1520553600-1520639999@www.jinaikai.or.jp
SUMMARY:社会見学（年長）
DESCRIPTION:バスや電車に乗って、科学技術館や空港に行きます。
URL:https://www.jinaikai.or.jp/kunitomi/cal/459/
END:VEVENT
BEGIN:VEVENT
DTSTART;VALUE=DATE:20180309
DTEND;VALUE=DATE:20180310
DTSTAMP:20260423T054612
CREATED:20180303T023336Z
LAST-MODIFIED:20180303T023336Z
UID:460-1520553600-1520639999@www.jinaikai.or.jp
SUMMARY:お弁当の日
DESCRIPTION:
URL:https://www.jinaikai.or.jp/kunitomi/cal/460/
END:VEVENT
BEGIN:VEVENT
DTSTART;TZID=Asia/Tokyo:20180312T080000
DTEND;TZID=Asia/Tokyo:20180312T170000
DTSTAMP:20260423T054612
CREATED:20180303T023434Z
LAST-MODIFIED:20180303T023434Z
UID:461-1520841600-1520874000@www.jinaikai.or.jp
SUMMARY:体位測定（以上児）
DESCRIPTION:
URL:https://www.jinaikai.or.jp/kunitomi/cal/461/
END:VEVENT
BEGIN:VEVENT
DTSTART;VALUE=DATE:20180313
DTEND;VALUE=DATE:20180314
DTSTAMP:20260423T054612
CREATED:20180303T023545Z
LAST-MODIFIED:20180303T023545Z
UID:462-1520899200-1520985599@www.jinaikai.or.jp
SUMMARY:元気っ子クラブ
DESCRIPTION:3月は、さくら組さんも参加します。
URL:https://www.jinaikai.or.jp/kunitomi/cal/462/
END:VEVENT
BEGIN:VEVENT
DTSTART;VALUE=DATE:20180313
DTEND;VALUE=DATE:20180314
DTSTAMP:20260423T054612
CREATED:20180303T023615Z
LAST-MODIFIED:20180303T023615Z
UID:463-1520899200-1520985599@www.jinaikai.or.jp
SUMMARY:体位測定（未満児）
DESCRIPTION:
URL:https://www.jinaikai.or.jp/kunitomi/cal/463/
END:VEVENT
BEGIN:VEVENT
DTSTART;VALUE=DATE:20180314
DTEND;VALUE=DATE:20180315
DTSTAMP:20260423T054612
CREATED:20180303T023655Z
LAST-MODIFIED:20180303T023655Z
UID:464-1520985600-1521071999@www.jinaikai.or.jp
SUMMARY:卒園式予行練習
DESCRIPTION:
URL:https://www.jinaikai.or.jp/kunitomi/cal/464/
END:VEVENT
BEGIN:VEVENT
DTSTART;VALUE=DATE:20180315
DTEND;VALUE=DATE:20180316
DTSTAMP:20260423T054612
CREATED:20180303T023842Z
LAST-MODIFIED:20180303T023842Z
UID:465-1521072000-1521158399@www.jinaikai.or.jp
SUMMARY:誕生会
DESCRIPTION:  \n今月は、ひまわり組さんのリクエストメニューと、おやつバイキングです。
URL:https://www.jinaikai.or.jp/kunitomi/cal/465/
END:VEVENT
BEGIN:VEVENT
DTSTART;VALUE=DATE:20180320
DTEND;VALUE=DATE:20180321
DTSTAMP:20260423T054612
CREATED:20180303T023939Z
LAST-MODIFIED:20180303T023939Z
UID:466-1521504000-1521590399@www.jinaikai.or.jp
SUMMARY:卒園式予行練習
DESCRIPTION:
URL:https://www.jinaikai.or.jp/kunitomi/cal/466/
END:VEVENT
BEGIN:VEVENT
DTSTART;VALUE=DATE:20180321
DTEND;VALUE=DATE:20180322
DTSTAMP:20260423T054612
CREATED:20180303T024006Z
LAST-MODIFIED:20180303T024006Z
UID:467-1521590400-1521676799@www.jinaikai.or.jp
SUMMARY:春分の日
DESCRIPTION:
URL:https://www.jinaikai.or.jp/kunitomi/cal/467/
END:VEVENT
BEGIN:VEVENT
DTSTART;TZID=Asia/Tokyo:20180322T100000
DTEND;TZID=Asia/Tokyo:20180322T110000
DTSTAMP:20260423T054612
CREATED:20180303T031629Z
LAST-MODIFIED:20180303T031931Z
UID:468-1521712800-1521716400@www.jinaikai.or.jp
SUMMARY:交通教室
DESCRIPTION:  \n  \n年長さんは園外に出て、道路の歩き方や横断歩道の渡り方の練習をします。
URL:https://www.jinaikai.or.jp/kunitomi/cal/468/
END:VEVENT
BEGIN:VEVENT
DTSTART;TZID=Asia/Tokyo:20180324T093000
DTEND;TZID=Asia/Tokyo:20180324T103000
DTSTAMP:20260423T054612
CREATED:20180303T032404Z
LAST-MODIFIED:20180303T032404Z
UID:469-1521883800-1521887400@www.jinaikai.or.jp
SUMMARY:卒園・修了式
DESCRIPTION:式終了後、父母の会総会がありますので、在園児の保護者も出席をお願いします。
URL:https://www.jinaikai.or.jp/kunitomi/cal/469/
END:VEVENT
BEGIN:VEVENT
DTSTART;TZID=Asia/Tokyo:20180330T193000
DTEND;TZID=Asia/Tokyo:20180330T203000
DTSTAMP:20260423T054612
CREATED:20180303T032501Z
LAST-MODIFIED:20180303T032501Z
UID:470-1522438200-1522441800@www.jinaikai.or.jp
SUMMARY:新年度説明会
DESCRIPTION:
URL:https://www.jinaikai.or.jp/kunitomi/cal/470/
END:VEVENT
END:VCALENDAR