BEGIN:VCALENDAR
VERSION:2.0
PRODID:-//国富こすもす保育園 - ECPv6.8.1//NONSGML v1.0//EN
CALSCALE:GREGORIAN
METHOD:PUBLISH
X-ORIGINAL-URL:https://www.jinaikai.or.jp/kunitomi
X-WR-CALDESC:国富こすもす保育園 のイベント
REFRESH-INTERVAL;VALUE=DURATION:PT1H
X-Robots-Tag:noindex
X-PUBLISHED-TTL:PT1H
BEGIN:VTIMEZONE
TZID:Asia/Tokyo
BEGIN:STANDARD
TZOFFSETFROM:+0900
TZOFFSETTO:+0900
TZNAME:JST
DTSTART:20160101T000000
END:STANDARD
END:VTIMEZONE
BEGIN:VEVENT
DTSTART;VALUE=DATE:20160915
DTEND;VALUE=DATE:20160916
DTSTAMP:20260424T102959
CREATED:20160827T035957Z
LAST-MODIFIED:20160827T035957Z
UID:164-1473897600-1473983999@www.jinaikai.or.jp
SUMMARY:十五夜
DESCRIPTION:
URL:https://www.jinaikai.or.jp/kunitomi/cal/164/
END:VEVENT
BEGIN:VEVENT
DTSTART;VALUE=DATE:20160915
DTEND;VALUE=DATE:20160916
DTSTAMP:20260424T102959
CREATED:20160827T040049Z
LAST-MODIFIED:20160827T041917Z
UID:165-1473897600-1473983999@www.jinaikai.or.jp
SUMMARY:体位測定（以上児）
DESCRIPTION:
URL:https://www.jinaikai.or.jp/kunitomi/cal/165/
END:VEVENT
END:VCALENDAR