BEGIN:VCALENDAR
VERSION:2.0
PRODID:-//国富こすもす保育園 - ECPv6.8.1//NONSGML v1.0//EN
CALSCALE:GREGORIAN
METHOD:PUBLISH
X-ORIGINAL-URL:https://www.jinaikai.or.jp/kunitomi
X-WR-CALDESC:国富こすもす保育園 のイベント
REFRESH-INTERVAL;VALUE=DURATION:PT1H
X-Robots-Tag:noindex
X-PUBLISHED-TTL:PT1H
BEGIN:VTIMEZONE
TZID:Asia/Tokyo
BEGIN:STANDARD
TZOFFSETFROM:+0900
TZOFFSETTO:+0900
TZNAME:JST
DTSTART:20160101T000000
END:STANDARD
END:VTIMEZONE
BEGIN:VEVENT
DTSTART;VALUE=DATE:20161015
DTEND;VALUE=DATE:20161017
DTSTAMP:20260424T085849
CREATED:20161014T080443Z
LAST-MODIFIED:20161014T083448Z
UID:186-1476489600-1476662399@www.jinaikai.or.jp
SUMMARY:町民祭
DESCRIPTION:町体育館に、ひまわり、さくら組の共同作品が展示されます。 \nぜひ、ご覧になってください。
URL:https://www.jinaikai.or.jp/kunitomi/cal/186/
END:VEVENT
END:VCALENDAR