BEGIN:VCALENDAR
VERSION:2.0
PRODID:-//国富こすもす保育園 - ECPv6.8.1//NONSGML v1.0//EN
CALSCALE:GREGORIAN
METHOD:PUBLISH
X-WR-CALNAME:国富こすもす保育園
X-ORIGINAL-URL:https://www.jinaikai.or.jp/kunitomi
X-WR-CALDESC:国富こすもす保育園 のイベント
REFRESH-INTERVAL;VALUE=DURATION:PT1H
X-Robots-Tag:noindex
X-PUBLISHED-TTL:PT1H
BEGIN:VTIMEZONE
TZID:Asia/Tokyo
BEGIN:STANDARD
TZOFFSETFROM:+0900
TZOFFSETTO:+0900
TZNAME:JST
DTSTART:20160101T000000
END:STANDARD
END:VTIMEZONE
BEGIN:VEVENT
DTSTART;VALUE=DATE:20161018
DTEND;VALUE=DATE:20161019
DTSTAMP:20260424T085715
CREATED:20161014T080514Z
LAST-MODIFIED:20161014T080514Z
UID:187-1476748800-1476835199@www.jinaikai.or.jp
SUMMARY:誕生会
DESCRIPTION:
URL:https://www.jinaikai.or.jp/kunitomi/cal/187/
END:VEVENT
END:VCALENDAR