BEGIN:VCALENDAR
VERSION:2.0
PRODID:-//国富こすもす保育園 - ECPv6.8.1//NONSGML v1.0//EN
CALSCALE:GREGORIAN
METHOD:PUBLISH
X-ORIGINAL-URL:https://www.jinaikai.or.jp/kunitomi
X-WR-CALDESC:国富こすもす保育園 のイベント
REFRESH-INTERVAL;VALUE=DURATION:PT1H
X-Robots-Tag:noindex
X-PUBLISHED-TTL:PT1H
BEGIN:VTIMEZONE
TZID:Asia/Tokyo
BEGIN:STANDARD
TZOFFSETFROM:+0900
TZOFFSETTO:+0900
TZNAME:JST
DTSTART:20170101T000000
END:STANDARD
END:VTIMEZONE
BEGIN:VEVENT
DTSTART;VALUE=DATE:20170206
DTEND;VALUE=DATE:20170207
DTSTAMP:20260424T030319
CREATED:20170202T051442Z
LAST-MODIFIED:20170202T051442Z
UID:262-1486339200-1486425599@www.jinaikai.or.jp
SUMMARY:総合避難訓練
DESCRIPTION:
URL:https://www.jinaikai.or.jp/kunitomi/cal/262/
END:VEVENT
END:VCALENDAR