BEGIN:VCALENDAR
VERSION:2.0
PRODID:-//国富こすもす保育園 - ECPv6.8.1//NONSGML v1.0//EN
CALSCALE:GREGORIAN
METHOD:PUBLISH
X-WR-CALNAME:国富こすもす保育園
X-ORIGINAL-URL:https://www.jinaikai.or.jp/kunitomi
X-WR-CALDESC:国富こすもす保育園 のイベント
REFRESH-INTERVAL;VALUE=DURATION:PT1H
X-Robots-Tag:noindex
X-PUBLISHED-TTL:PT1H
BEGIN:VTIMEZONE
TZID:Asia/Tokyo
BEGIN:STANDARD
TZOFFSETFROM:+0900
TZOFFSETTO:+0900
TZNAME:JST
DTSTART:20170101T000000
END:STANDARD
END:VTIMEZONE
BEGIN:VEVENT
DTSTART;VALUE=DATE:20170623
DTEND;VALUE=DATE:20170624
DTSTAMP:20260423T205521
CREATED:20170603T031405Z
LAST-MODIFIED:20170603T031405Z
UID:329-1498176000-1498262399@www.jinaikai.or.jp
SUMMARY:避難訓練
DESCRIPTION:
URL:https://www.jinaikai.or.jp/kunitomi/cal/329/
END:VEVENT
BEGIN:VEVENT
DTSTART;TZID=Asia/Tokyo:20170623T133000
DTEND;TZID=Asia/Tokyo:20170623T143000
DTSTAMP:20260423T205521
CREATED:20170603T031321Z
LAST-MODIFIED:20170603T032252Z
UID:328-1498224600-1498228200@www.jinaikai.or.jp
SUMMARY:内科健診
DESCRIPTION:平山こどもクリニックの先生の健診です。
URL:https://www.jinaikai.or.jp/kunitomi/cal/328/
END:VEVENT
END:VCALENDAR