BEGIN:VCALENDAR
VERSION:2.0
PRODID:-//国富こすもす保育園 - ECPv6.8.1//NONSGML v1.0//EN
CALSCALE:GREGORIAN
METHOD:PUBLISH
X-ORIGINAL-URL:https://www.jinaikai.or.jp/kunitomi
X-WR-CALDESC:国富こすもす保育園 のイベント
REFRESH-INTERVAL;VALUE=DURATION:PT1H
X-Robots-Tag:noindex
X-PUBLISHED-TTL:PT1H
BEGIN:VTIMEZONE
TZID:Asia/Tokyo
BEGIN:STANDARD
TZOFFSETFROM:+0900
TZOFFSETTO:+0900
TZNAME:JST
DTSTART:20170101T000000
END:STANDARD
END:VTIMEZONE
BEGIN:VEVENT
DTSTART;VALUE=DATE:20170822
DTEND;VALUE=DATE:20170823
DTSTAMP:20260423T181128
CREATED:20170803T235859Z
LAST-MODIFIED:20170803T235859Z
UID:359-1503360000-1503446399@www.jinaikai.or.jp
SUMMARY:体位測定（3歳未満児）
DESCRIPTION:
URL:https://www.jinaikai.or.jp/kunitomi/cal/359/
END:VEVENT
BEGIN:VEVENT
DTSTART;VALUE=DATE:20170822
DTEND;VALUE=DATE:20170823
DTSTAMP:20260423T181128
CREATED:20170803T235929Z
LAST-MODIFIED:20170803T235929Z
UID:360-1503360000-1503446399@www.jinaikai.or.jp
SUMMARY:元気っ子クラブ
DESCRIPTION:
URL:https://www.jinaikai.or.jp/kunitomi/cal/360/
END:VEVENT
END:VCALENDAR