BEGIN:VCALENDAR
VERSION:2.0
PRODID:-//国富こすもす保育園 - ECPv6.8.1//NONSGML v1.0//EN
CALSCALE:GREGORIAN
METHOD:PUBLISH
X-ORIGINAL-URL:https://www.jinaikai.or.jp/kunitomi
X-WR-CALDESC:国富こすもす保育園 のイベント
REFRESH-INTERVAL;VALUE=DURATION:PT1H
X-Robots-Tag:noindex
X-PUBLISHED-TTL:PT1H
BEGIN:VTIMEZONE
TZID:Asia/Tokyo
BEGIN:STANDARD
TZOFFSETFROM:+0900
TZOFFSETTO:+0900
TZNAME:JST
DTSTART:20170101T000000
END:STANDARD
END:VTIMEZONE
BEGIN:VEVENT
DTSTART;VALUE=DATE:20171018
DTEND;VALUE=DATE:20171019
DTSTAMP:20260423T152133
CREATED:20171012T061258Z
LAST-MODIFIED:20171012T061258Z
UID:385-1508284800-1508371199@www.jinaikai.or.jp
SUMMARY:体位測定（３歳以上児）
DESCRIPTION:
URL:https://www.jinaikai.or.jp/kunitomi/cal/385/
END:VEVENT
BEGIN:VEVENT
DTSTART;TZID=Asia/Tokyo:20171018T094000
DTEND;TZID=Asia/Tokyo:20171018T113000
DTSTAMP:20260423T152133
CREATED:20171012T061108Z
LAST-MODIFIED:20171012T061108Z
UID:384-1508319600-1508326200@www.jinaikai.or.jp
SUMMARY:５歳児健康相談
DESCRIPTION:
URL:https://www.jinaikai.or.jp/kunitomi/cal/384/
END:VEVENT
END:VCALENDAR