BEGIN:VCALENDAR
VERSION:2.0
PRODID:-//国富こすもす保育園 - ECPv6.8.1//NONSGML v1.0//EN
CALSCALE:GREGORIAN
METHOD:PUBLISH
X-WR-CALNAME:国富こすもす保育園
X-ORIGINAL-URL:https://www.jinaikai.or.jp/kunitomi
X-WR-CALDESC:国富こすもす保育園 のイベント
REFRESH-INTERVAL;VALUE=DURATION:PT1H
X-Robots-Tag:noindex
X-PUBLISHED-TTL:PT1H
BEGIN:VTIMEZONE
TZID:Asia/Tokyo
BEGIN:STANDARD
TZOFFSETFROM:+0900
TZOFFSETTO:+0900
TZNAME:JST
DTSTART:20170101T000000
END:STANDARD
END:VTIMEZONE
BEGIN:VEVENT
DTSTART;VALUE=DATE:20171116
DTEND;VALUE=DATE:20171117
DTSTAMP:20260423T135044
CREATED:20171102T060456Z
LAST-MODIFIED:20171102T060456Z
UID:400-1510790400-1510876799@www.jinaikai.or.jp
SUMMARY:誕生会
DESCRIPTION:
URL:https://www.jinaikai.or.jp/kunitomi/cal/400/
END:VEVENT
BEGIN:VEVENT
DTSTART;VALUE=DATE:20171116
DTEND;VALUE=DATE:20171117
DTSTAMP:20260423T135044
CREATED:20171102T060746Z
LAST-MODIFIED:20171102T060746Z
UID:402-1510790400-1510876799@www.jinaikai.or.jp
SUMMARY:職場体験学習（本庄中）
DESCRIPTION:
URL:https://www.jinaikai.or.jp/kunitomi/cal/402/
END:VEVENT
END:VCALENDAR