BEGIN:VCALENDAR
VERSION:2.0
PRODID:-//国富こすもす保育園 - ECPv6.8.1//NONSGML v1.0//EN
CALSCALE:GREGORIAN
METHOD:PUBLISH
X-ORIGINAL-URL:https://www.jinaikai.or.jp/kunitomi
X-WR-CALDESC:国富こすもす保育園 のイベント
REFRESH-INTERVAL;VALUE=DURATION:PT1H
X-Robots-Tag:noindex
X-PUBLISHED-TTL:PT1H
BEGIN:VTIMEZONE
TZID:Asia/Tokyo
BEGIN:STANDARD
TZOFFSETFROM:+0900
TZOFFSETTO:+0900
TZNAME:JST
DTSTART:20170101T000000
END:STANDARD
END:VTIMEZONE
BEGIN:VEVENT
DTSTART;VALUE=DATE:20171120
DTEND;VALUE=DATE:20171121
DTSTAMP:20260423T135225
CREATED:20171102T061311Z
LAST-MODIFIED:20171102T061311Z
UID:404-1511136000-1511222399@www.jinaikai.or.jp
SUMMARY:体位測定（3歳未満児）
DESCRIPTION:
URL:https://www.jinaikai.or.jp/kunitomi/cal/404/
END:VEVENT
END:VCALENDAR